BEGIN:VCALENDAR
VERSION:2.0
PRODID:-//pretix//Tickets_Social_Pottery//
BEGIN:VTIMEZONE
TZID:Europe/London
BEGIN:STANDARD
DTSTART:20001029T030000
RRULE:FREQ=YEARLY;BYDAY=-1SU;BYMONTH=10
TZNAME:GMT
TZOFFSETFROM:+0100
TZOFFSETTO:+0000
END:STANDARD
BEGIN:DAYLIGHT
DTSTART:20000326T020000
RRULE:FREQ=YEARLY;BYDAY=-1SU;BYMONTH=3
TZNAME:BST
TZOFFSETFROM:+0000
TZOFFSETTO:+0100
END:DAYLIGHT
END:VTIMEZONE
BEGIN:VEVENT
UID:pretix-150studio-pickup-3868@tickets.socialpottery.com
DTSTART;TZID=Europe/London:20250702T130000
DTEND;TZID=Europe/London:20250702T133000
DESCRIPTION:Tickets: https://tickets.socialpottery.com/150studio/pickup/386
 8/\nOrganizer: Studio 150 MK
DTSTAMP:20260420T070751Z
LOCATION:150A Station Road\, Woburn Sands\, Milton Keynes\, MK17 8SG
SUMMARY:Social Pottery 150 Pickup
END:VEVENT
END:VCALENDAR
